BEGIN:VCALENDAR
VERSION:2.0
PRODID:-//ChamberMaster//Event Calendar 2.0//EN
METHOD:PUBLISH
X-PUBLISHED-TTL:P3D
REFRESH-INTERVAL:P3D
CALSCALE:GREGORIAN
BEGIN:VEVENT
DTSTART:20191123T130000Z
DTEND:20191123T160000Z
X-MICROSOFT-CDO-ALLDAYEVENT:FALSE
SUMMARY:YWCA Turkey Trot 5K Run/Walk
DESCRIPTION:The YWCA Turkey Trot 5K Run/Walk is one of the longest-running all-female road races in Tennessee. For 39 years\, women of all ages and demographics\, from various areas of our region\, have made this unique\, annual wellness event\, hosted by the YWCA\, a tradition. The race is professionally managed by We Run Events. Proceeds from this race benefit the health and wellness programs of YWCA NETN and SWVA.
X-ALT-DESC;FMTTYPE=text/html:The YWCA Turkey Trot 5K Run/Walk is one of the longest-running all-female road races in Tennessee. For 39 years\, women of all ages and demographics\, from various areas of our region\, have made this unique\, annual wellness event\, hosted by the YWCA\, a tradition. The race is professionally managed by We Run Events. Proceeds from this race benefit the health and wellness programs of YWCA NETN and SWVA.
LOCATION:YWCA NETN and SWVA 106 State Street Bristol\, TN 37620
UID:e.2564.794159
SEQUENCE:3
DTSTAMP:20260421T062140Z
URL:https://business.bristolchamber.com/events/details/ywca-turkey-trot-5k-run-walk-794159
END:VEVENT

END:VCALENDAR
