BEGIN:VCALENDAR
VERSION:2.0
PRODID:-//ChamberMaster//Event Calendar 2.0//EN
METHOD:PUBLISH
X-PUBLISHED-TTL:P3D
REFRESH-INTERVAL:P3D
CALSCALE:GREGORIAN
BEGIN:VEVENT
DTSTART:20181117T130000Z
DTEND:20181117T170000Z
X-MICROSOFT-CDO-ALLDAYEVENT:FALSE
SUMMARY:YWCA Turkey Trot 5k
DESCRIPTION:The annual YWCA Turkey Trot 5k will be held on November 17th. The Turkey Trot is an event hosted by the YWCA Women's Fitness Center that encourages women to achieve their fitness goals. It is the longest running women's 5K in the Tri-Cities that features joggers and walkers of all skill levels. Every year\, the YW cheers on first-time participants and veteran runners to achieve a new personal best. The race route is certified by USA Track and Field. All proceeds from the race benefit the health and wellness programs of the YWCA's Women's Fitness Center.
X-ALT-DESC;FMTTYPE=text/html:The annual YWCA Turkey Trot 5k will be held on November 17th. The Turkey Trot is an event hosted by the YWCA Women&#39\;s Fitness Center that encourages women to achieve their fitness goals. It is the longest running women&#39\;s 5K in the Tri-Cities that features joggers and walkers of all skill levels. Every year\, the YW cheers on first-time participants and veteran runners to achieve a new personal best. The race route is certified by USA Track and Field. All proceeds from the race benefit the health and wellness programs of the YWCA&#39\;s Women&#39\;s Fitness Center.
LOCATION:YWCA 106 State Street Bristol\, TN 37620
UID:e.2564.791722
SEQUENCE:3
DTSTAMP:20260424T235237Z
URL:https://business.bristolchamber.com/events/details/ywca-turkey-trot-5k-791722
END:VEVENT

END:VCALENDAR
