BEGIN:VCALENDAR
VERSION:2.0
PRODID:-//ChamberMaster//Event Calendar 2.0//EN
METHOD:PUBLISH
X-PUBLISHED-TTL:P3D
REFRESH-INTERVAL:P3D
CALSCALE:GREGORIAN
BEGIN:VEVENT
DTSTART:20181228T170000Z
DTEND:20190215T170000Z
X-MICROSOFT-CDO-ALLDAYEVENT:FALSE
SUMMARY:YWCA 2019 Nominations for Tribute to Women
DESCRIPTION:YWCA NETN and SWVA is now accepting nominations for YW Tribute to Women\, an awards program that recognizes outstanding women in Washington County and Sullivan County\, TN. Women may be nominated by an organization\, business\, and community groups for this prestigious award in one of three categories: Nurture\, Empower\, and Transform. Candidates should be leaders who have experienced significant growth and/or achievement in their areas of expertise. Nomination forms are available online at www.ywcatnva.org/tribute-to-women/ and should be mailed to YWCA NETN and SWVA at 106 State Street\, Bristol\, TN 37620 or emailed to alinder@ywcatnva.org by February 15\, 2019. Forms are also available for pick-up at the YWCA front desk. For more information\, please contact Allison Linder at alinder@ywcatnva.org or call 423.968.9444.
X-ALT-DESC;FMTTYPE=text/html:YWCA NETN and SWVA is now accepting nominations for YW Tribute to Women\, an awards program that recognizes outstanding women in Washington County and Sullivan County\, TN. Women may be nominated by an organization\, business\, and community groups for this prestigious award in one of three categories: Nurture\, Empower\, and Transform. Candidates should be leaders who have experienced significant growth and/or achievement in their areas of expertise. Nomination forms are available online at www.ywcatnva.org/tribute-to-women/ and should be mailed to YWCA NETN and SWVA at 106 State Street\, Bristol\, TN 37620 or emailed to alinder@ywcatnva.org by February 15\, 2019. Forms are also available for pick-up at the YWCA front desk. For more information\, please contact Allison Linder at alinder@ywcatnva.org or call 423.968.9444.
LOCATION:
UID:e.2564.791824
SEQUENCE:3
DTSTAMP:20260424T203731Z
URL:https://business.bristolchamber.com/events/details/ywca-2019-nominations-for-tribute-to-women-791824
END:VEVENT

END:VCALENDAR
