BEGIN:VCALENDAR
VERSION:2.0
PRODID:-//ChamberMaster//Event Calendar 2.0//EN
METHOD:PUBLISH
X-PUBLISHED-TTL:P3D
REFRESH-INTERVAL:P3D
CALSCALE:GREGORIAN
BEGIN:VEVENT
DTSTART:20190509T153000Z
DTEND:20190509T170000Z
X-MICROSOFT-CDO-ALLDAYEVENT:FALSE
SUMMARY:Your Scorecard Lunch & Learn
DESCRIPTION:Do you feel like your team members don't agree on how well your company is doing or what you need to do differently to reach your goals? Join us on Thursday\, May 9\, from 11:30 am to 1:00 pm as Eric Fields explores how organizations can utilize their financial and operational data to track progress\, and be more likely to reach their targets.
X-ALT-DESC;FMTTYPE=text/html:Do you feel like your team members don&rsquo\;t agree on how well your company is doing or what you need to do differently to reach your goals? Join us on Thursday\, May 9\, from 11:30 am to 1:00 pm as Eric Fields explores how organizations can utilize their financial and operational data to track progress\, and be more likely to reach their targets.
LOCATION:Summit 1227 Volunteer Pkwy Bristol\, TN 37620
UID:e.2564.791994
SEQUENCE:3
DTSTAMP:20260419T185523Z
URL:https://business.bristolchamber.com/events/details/your-scorecard-lunch-learn-791994
END:VEVENT

END:VCALENDAR
