BEGIN:VCALENDAR
VERSION:2.0
PRODID:-//ChamberMaster//Event Calendar 2.0//EN
METHOD:PUBLISH
X-PUBLISHED-TTL:P3D
REFRESH-INTERVAL:P3D
CALSCALE:GREGORIAN
BEGIN:VEVENT
DTSTART:20200716T180000Z
DTEND:20200716T190000Z
X-MICROSOFT-CDO-ALLDAYEVENT:FALSE
SUMMARY:YOU ARE INVITED: VIrtual Meet & Greet TN 1st Congressional Candidate John Clark
DESCRIPTION:
X-ALT-DESC;FMTTYPE=text/html:
LOCATION:Bristol Chamber of Commerce is inviting you to a scheduled Zoom meeting. Join Zoom Meeting https://us02web.zoom.us/j/86989189812 Meeting ID: 869 8918 9812 One tap mobile +13017158592\,\,86989189812# US (Germantown) +13126266799\,\,86989189812# US (Chicago) Dial by your location +1 301 715 8592 US (Germantown) +1 312 626 6799 US (Chicago) +1 646 558 8656 US (New York) +1 253 215 8782 US (Tacoma) +1 346 248 7799 US (Houston) +1 669 900 9128 US (San Jose) Meeting ID: 869 8918 9812 Find your local number: https://us02web.zoom.us/u/kWnFUdfsj
UID:e.2564.794453
SEQUENCE:3
DTSTAMP:20260423T185911Z
URL:https://business.bristolchamber.com/events/details/you-are-invited-virtual-meet-greet-tn-1st-congressional-candidate-john-clark-794453
END:VEVENT

END:VCALENDAR
