BEGIN:VCALENDAR
VERSION:2.0
PRODID:-//ChamberMaster//Event Calendar 2.0//EN
METHOD:PUBLISH
X-PUBLISHED-TTL:P3D
REFRESH-INTERVAL:P3D
CALSCALE:GREGORIAN
BEGIN:VEVENT
DTSTART:20211209T223000Z
DTEND:20211210T010000Z
X-MICROSOFT-CDO-ALLDAYEVENT:FALSE
SUMMARY:Wreath Making Class
DESCRIPTION:Berkshire Hathaway Homeservices Jones Property Group invites you to join us for a Winter Wreath Making Workshop. Tickets $40 - All Proceeds Benefit The Bristol Train Station E-Mail RPowers@BHHSJones.com to reserve a ticket today!
X-ALT-DESC;FMTTYPE=text/html:Berkshire Hathaway Homeservices Jones Property Group invites you to join us for a Winter Wreath Making Workshop. Tickets $40 - All Proceeds Benefit The Bristol Train Station E-Mail RPowers@BHHSJones.com to reserve a ticket today!
LOCATION:The Bristol Train Station 101 MLK Jr Blvd\, Bristol\, VA
UID:e.2564.795006
SEQUENCE:3
DTSTAMP:20260422T175820Z
URL:https://business.bristolchamber.com/events/details/wreath-making-class-795006
END:VEVENT

END:VCALENDAR
