BEGIN:VCALENDAR
VERSION:2.0
PRODID:-//ChamberMaster//Event Calendar 2.0//EN
METHOD:PUBLISH
X-PUBLISHED-TTL:P3D
REFRESH-INTERVAL:P3D
CALSCALE:GREGORIAN
BEGIN:VEVENT
DTSTART:20190328T173000Z
DTEND:20190328T193000Z
X-MICROSOFT-CDO-ALLDAYEVENT:FALSE
SUMMARY:Women in Manufacturing Symposium
DESCRIPTION:The Women in Manufacturing Symposium - A Regional Affair will be held on Thursday\, March 28\, 2019\, 1:30 p.m. - 3:30 p.m. at the Bristol Train Station in Bristol\, Virginia.\n\nThe event will include a welcome and introduction of a panel comprised of women working and teaching in the manufacturing industry.  The panelists\, who hold high level positions within their companies or schools\, will share how their career pathways began in manufacturing\, how their careers have progressed\, about job opportunities which are available to women today\, the qualities women possess that make them excel in manufacturing\, wages\, and the technical skill requirements for today's manufacturing jobs.\n\nWe are inviting women\, who are students in high school and community college and working in the manufacturing industry\, to network with other like-minded women.  Women need to network with other women to fully realize the opportunities and education available to them here in the Southwest Virginia/Northeast Tennessee region.  In conclusion of the event\, the Southwest Virginia Alliance for Manufacturing\, Inc. (SVAM) will recognize the 2019 winner of the Outstanding Woman in Manufacturing (OWiM) Award. Light refreshments will be served.\n\nWe are honored and delighted to announce the following professionals have confirmed as panelists for the First Annual Women in Manufacturing Symposium - A Regional Affair:\n\n	Megan Pack - HR Manager at Woodgrain Millworks in Marion\, VA\n	Carolyn Powers - Regulatory and Compliance Specialist at Scholle IPN Packaging in Chilhowie\, VA\n	Christa Glassburn\, Chief Operating Office at The PBE Group in Tazewell\, VA\n	Nicole Manz-Young\, Coordinator of Advanced Technologies at Northeast State Community College\, Blountville\, TN\n\n\nThe link to register is https://womeninmanufacturingsymposium.eventbrite.com.
X-ALT-DESC;FMTTYPE=text/html:The <em><span style="font-family:calibri\,sans-serif\;">Women in Manufacturing Symposium - A Regional Affair</span></em> will be held on Thursday\, March 28\, 2019\, 1:30 p.m. - 3:30 p.m. at the Bristol Train Station in Bristol\, Virginia.<br />\nThe event will include a welcome and introduction of a panel comprised of women working and teaching in the manufacturing industry.&nbsp\; The panelists\, who hold high level positions within their companies or schools\, will share how their career pathways began in manufacturing\, how their careers have progressed\, about job opportunities which are available to women today\, the qualities women possess that make them excel in manufacturing\, wages\, and the technical skill requirements for today&#39\;s manufacturing jobs.<br />\nWe are inviting women\, who are students in high school and community college and working in the manufacturing industry\, to network with other like-minded women.&nbsp\; Women need to network with other women to fully realize the opportunities and education available to them here in the Southwest Virginia/Northeast Tennessee region.&nbsp\; In conclusion of the event\, the Southwest Virginia Alliance for Manufacturing\, Inc. (SVAM) will recognize the 2019 winner of the <em><span style="font-family:calibri\,sans-serif\;">Outstanding Woman in Manufacturing (OWiM) Award</span></em>. Light refreshments will be served.<br />\nWe are honored and delighted to announce the following professionals have confirmed as panelists for the <em><span style="font-family:calibri\,sans-serif\;">First Annual Women in Manufacturing Symposium - A Regional Affair:</span></em>\n<ul>\n	<li><strong><span style="font-family:calibri\,sans-serif\;">Megan Pack - HR Manager at Woodgrain Millworks in Marion\, VA</span></strong></li>\n	<li><strong><span style="font-family:calibri\,sans-serif\;">Carolyn Powers - Regulatory and Compliance Specialist at Scholle IPN Packaging in Chilhowie\, VA</span></strong></li>\n	<li><strong><span style="font-family:calibri\,sans-serif\;">Christa Glassburn\, Chief Operating Office at The PBE Group in Tazewell\, VA</span></strong></li>\n	<li><strong><span style="font-family:calibri\,sans-serif\;">Nicole Manz-Young\, Coordinator of Advanced Technologies at Northeast State Community College\, Blountville\, TN</span></strong></li>\n</ul>\n\n<p>The link to register is <a href="https://womeninmanufacturingsymposium.eventbrite.com">https://womeninmanufacturingsymposium.eventbrite.com</a>.<o:p></o:p></p>\n
LOCATION:
UID:e.2564.791937
SEQUENCE:3
DTSTAMP:20260424T174551Z
URL:https://business.bristolchamber.com/events/details/women-in-manufacturing-symposium-791937
END:VEVENT

END:VCALENDAR
