BEGIN:VCALENDAR
VERSION:2.0
PRODID:-//ChamberMaster//Event Calendar 2.0//EN
METHOD:PUBLISH
X-PUBLISHED-TTL:P3D
REFRESH-INTERVAL:P3D
CALSCALE:GREGORIAN
BEGIN:VEVENT
DTSTART:20210710T003000Z
DTEND:20210710T030000Z
X-MICROSOFT-CDO-ALLDAYEVENT:FALSE
SUMMARY:WCQR Outdoor Movie Night
DESCRIPTION:Outdoor movie night at Discovery Church in Bristol\, TN. Parking opens up at 8:30 and the movie will begin at 9:15. Bring your blankets and lawn chairs for a family-friendly movie on the lawn. Food trucks including Kona Ice\, Hound Dogs\, and Allen's Sweet Paradise and giveaways\, too!
X-ALT-DESC;FMTTYPE=text/html:Outdoor movie night at Discovery Church in Bristol\, TN. Parking opens up at 8:30 and the movie will begin at 9:15. Bring your blankets and lawn chairs for a family-friendly movie on the lawn. Food trucks including Kona Ice\, Hound Dogs\, and Allen&#39\;s Sweet Paradise and giveaways\, too!
LOCATION:Discovery Church 242 Bethel Road Bristol\, TN
UID:e.2564.794911
SEQUENCE:3
DTSTAMP:20260423T014320Z
URL:https://business.bristolchamber.com/events/details/wcqr-outdoor-movie-night-794911
END:VEVENT

END:VCALENDAR
