BEGIN:VCALENDAR
VERSION:2.0
PRODID:-//ChamberMaster//Event Calendar 2.0//EN
METHOD:PUBLISH
X-PUBLISHED-TTL:P3D
REFRESH-INTERVAL:P3D
CALSCALE:GREGORIAN
BEGIN:VEVENT
DTSTART:20210203T000000Z
DTEND:20210203T013000Z
X-MICROSOFT-CDO-ALLDAYEVENT:FALSE
SUMMARY:Virtual Speaker Series Before Coal Miner’s Daughters and Multi-Colored Coats: Pioneering Women in Country Music
DESCRIPTION:DATE: TUESDAY\, FEBRUARY 2\, 2021\n\nTIME: 7:00PM\n\nLOCATION: ZOOM \n\nCOST: FREE\, REGISTRATION REQUIRED\n\nJoin us on Tuesday\, February 2 for a fascinating talk by Bailey George about the women who made their mark in early country music. Traditionally the role and widespread recognition of women in country music has been relegated to a handful of "superstars" who rose to fame in the 1960s and 1970s. But female country artists have been making recordings since the beginnings of country music recording. The impact of these pioneering artists has been somewhat overshadowed by flashier\, pop-oriented female artists in recent years\, but without these trailblazing recordings\, the country music industry as we know it would not exist. With this talk\, Bailey George will take a look at some of the forgotten female artists\, musicians\, writers\, and performers from days long before there were coal miner's daughters or many-colored coats.\n\nBailey George has been collecting and researching vintage music since he was 11 years old. He is the host of the popular Honky Tonk Hit Parade on Radio Bristol\, playing country music from the 1940s and 1950s every Wednesday\, 3:00 5:00pm. In addition to his archival work and his time on-air\, Bailey also performs in a duo with Jessica Stiles as "Bailey George and Jukebox Jess."\n\n"Before Coal Miner's Daughters and Multi-Colored Coats: Pioneering Women in Country Music" is free and open to the public\, but please register to attend below. Donations are welcome and help to support free and low-cost museum programming.
X-ALT-DESC;FMTTYPE=text/html:<h3><strong><span style="font-size:12pt">DATE: TUESDAY\, FEBRUARY 2\, 2021</span></strong></h3>\n\n<h3><strong><span style="font-size:12pt">TIME: 7:00PM</span></strong></h3>\n\n<h3><strong><span style="font-size:12pt">LOCATION: ZOOM </span></strong></h3>\n\n<p><strong><span style="font-size:12pt">COST: FREE\, REGISTRATION REQUIRED</span></strong></p>\n\n<p>Join us on Tuesday\, February 2 for a fascinating talk by Bailey George about the women who made their mark in early country music. Traditionally the role and widespread recognition of women in country music has been relegated to a handful of &ldquo\;superstars&rdquo\; who rose to fame in the 1960s and 1970s. But female country artists have been making recordings since the beginnings of country music recording. The impact of these pioneering artists has been somewhat overshadowed by flashier\, pop-oriented female artists in recent years\, but without these trailblazing recordings\, the country music industry as we know it would not exist. With this talk\, Bailey George will take a look at some of the forgotten female artists\, musicians\, writers\, and performers from days long before there were coal miner&rsquo\;s daughters or many-colored coats.</p>\n\n<p>Bailey George has been collecting and researching vintage music since he was 11 years old. He is the host of the popular&nbsp\;<a href="https://www.birthplaceofcountrymusic.org/radio/programming/radio-program/honky-tonk-hit-parade/" rel="noopener noreferrer" style="color: rgb(193\, 42\, 31)\; text-decoration-line: none\;" target="_blank"><em>Honky Tonk Hit Parade</em></a>&nbsp\;on Radio Bristol\, playing country music from the 1940s and 1950s every Wednesday\, 3:00&ndash\;5:00pm. In addition to his archival work and his time on-air\, Bailey also performs in a duo with Jessica Stiles as &ldquo\;Bailey George and Jukebox Jess.&rdquo\;</p>\n\n<p>&ldquo\;Before Coal Miner&rsquo\;s Daughters and Multi-Colored Coats: Pioneering Women in Country Music&rdquo\; is free and open to the public\, but please register to attend below. Donations are welcome and help to support free and low-cost museum programming.</p>\n
LOCATION:Online via Zoom
UID:e.2564.794626
SEQUENCE:3
DTSTAMP:20260423T102948Z
URL:https://business.bristolchamber.com/events/details/virtual-speaker-series-before-coal-miner-s-daughters-and-multi-colored-coats-pioneering-women-in-country-music-794626
END:VEVENT

END:VCALENDAR
