BEGIN:VCALENDAR
VERSION:2.0
PRODID:-//ChamberMaster//Event Calendar 2.0//EN
METHOD:PUBLISH
X-PUBLISHED-TTL:P3D
REFRESH-INTERVAL:P3D
CALSCALE:GREGORIAN
BEGIN:VEVENT
DTSTART:20230511T190000Z
DTEND:20230511T220000Z
X-MICROSOFT-CDO-ALLDAYEVENT:FALSE
SUMMARY:Virginia High School Plant Sale
DESCRIPTION:Virginia High School will be hosting their annual plant sale on Thursday\, May 11th\, 3pm-6pm and will be located in the track / tennis court parking lot off of Green Acres Road. We will have over 3\,000 plants available including annuals\, perennials\, herbs\, veggies\, houseplants\, and succulents. Nearly all of the plants available have been grown by VHS horticulture students. Proceeds go towards student scholarships\, classroom supplies and free field trips.
X-ALT-DESC;FMTTYPE=text/html:Virginia High School will be hosting their annual plant sale on Thursday\, May 11th\, 3pm-6pm and will be located in the track / tennis court parking lot off of Green Acres Road. We will have over 3\,000 plants available including annuals\, perennials\, herbs\, veggies\, houseplants\, and succulents. Nearly all of the plants available have been grown by VHS horticulture students. Proceeds go towards student scholarships\, classroom supplies and free field trips.
LOCATION:Virginia High School track / tennis court parking lot (green acres road).
UID:e.2564.795907
SEQUENCE:3
DTSTAMP:20260419T211636Z
URL:https://business.bristolchamber.com/events/details/virginia-high-school-plant-sale-795907
END:VEVENT

END:VCALENDAR
