BEGIN:VCALENDAR
VERSION:2.0
PRODID:-//ChamberMaster//Event Calendar 2.0//EN
METHOD:PUBLISH
X-PUBLISHED-TTL:P3D
REFRESH-INTERVAL:P3D
CALSCALE:GREGORIAN
BEGIN:VEVENT
DTSTART:20190330T180000Z
DTEND:20190330T203000Z
X-MICROSOFT-CDO-ALLDAYEVENT:FALSE
SUMMARY:Virginia Duff Arts Festival
DESCRIPTION:A celebration of Bristol Tennessee City Schools' Arts Programs with an art show from 2:00-3:00 P.M. in the foyer of Viking Hall and musical performances from 3:00-4:30 P.M.in the Frank Winston Auditorium at Tennessee High School
X-ALT-DESC;FMTTYPE=text/html:A celebration of Bristol Tennessee City Schools&#39\; Arts Programs with an art show from 2:00-3:00 P.M. in the foyer of Viking Hall and musical performances from 3:00-4:30 P.M.in the Frank Winston Auditorium at Tennessee High School
LOCATION:Foyer of Viking Hall and the Frank Winston Auditorium at Tennessee High School
UID:e.2564.791940
SEQUENCE:3
DTSTAMP:20260424T174725Z
URL:https://business.bristolchamber.com/events/details/virginia-duff-arts-festival-791940
END:VEVENT

END:VCALENDAR
