BEGIN:VCALENDAR
VERSION:2.0
PRODID:-//ChamberMaster//Event Calendar 2.0//EN
METHOD:PUBLISH
X-PUBLISHED-TTL:P3D
REFRESH-INTERVAL:P3D
CALSCALE:GREGORIAN
BEGIN:VEVENT
DTSTART:20191029T220000Z
DTEND:20191030T010000Z
X-MICROSOFT-CDO-ALLDAYEVENT:FALSE
SUMMARY:VHS Sabika Bingo
DESCRIPTION:Virginia High School"s FBLA and SkillsUSA are teaming up to do a Sabika BINGO night of fun! Proceeds will go to help students go to district\, state\, and national competitions. Win sets of Sabika jewelry or purses by Kate Spade\, Coach\, Tory Burch. Men's Fossil watches or a YETI Cooler. We also will do a raffle in-between games for prizes and gift certificates. There will be a baked Ziti dinner for $5.00
X-ALT-DESC;FMTTYPE=text/html:Virginia High School&quot\;s FBLA and SkillsUSA are teaming up to do a Sabika BINGO night of fun! Proceeds will go to help students go to district\, state\, and national competitions. Win sets of Sabika jewelry or purses by Kate Spade\, Coach\, Tory Burch. Men&#39\;s Fossil watches or a YETI Cooler. We also will do a raffle in-between games for prizes and gift certificates. There will be a baked Ziti dinner for $5.00
LOCATION:Virginia High School Cafeteria
UID:e.2564.794126
SEQUENCE:3
DTSTAMP:20260421T133914Z
URL:https://business.bristolchamber.com/events/details/vhs-sabika-bingo-794126
END:VEVENT

END:VCALENDAR
