BEGIN:VCALENDAR
VERSION:2.0
PRODID:-//ChamberMaster//Event Calendar 2.0//EN
METHOD:PUBLISH
X-PUBLISHED-TTL:P3D
REFRESH-INTERVAL:P3D
CALSCALE:GREGORIAN
BEGIN:VEVENT
DTSTART:20210604T130000Z
DTEND:20210604T190000Z
X-MICROSOFT-CDO-ALLDAYEVENT:FALSE
SUMMARY:VHCC Educational Foundation 2021 Scholarship Golf Tournament
DESCRIPTION:Join us for the 13th Annual Golf Tournament to raise money for student scholarships at Virginia Highlands Community College. Prizes for the 1st\, 2nd\, and 3rd place teams\, putting contest\, hole-in-one challenge\, and lots more Lunch and golf cart included with registration. Sponsorships available
X-ALT-DESC;FMTTYPE=text/html:Join us for the 13th Annual Golf Tournament to raise money for student scholarships at Virginia Highlands Community College. Prizes for the 1st\, 2nd\, and 3rd place teams\, putting contest\, hole-in-one challenge\, and lots more Lunch and golf cart included with registration. Sponsorships available
LOCATION:Glenrochie Country Club
UID:e.2564.794634
SEQUENCE:3
DTSTAMP:20260423T031750Z
URL:https://business.bristolchamber.com/events/details/vhcc-educational-foundation-2021-scholarship-golf-tournament-794634
END:VEVENT

END:VCALENDAR
