BEGIN:VCALENDAR
VERSION:2.0
PRODID:-//ChamberMaster//Event Calendar 2.0//EN
METHOD:PUBLISH
X-PUBLISHED-TTL:P3D
REFRESH-INTERVAL:P3D
CALSCALE:GREGORIAN
BEGIN:VEVENT
DTSTART:20221115T200000Z
DTEND:20221115T220000Z
X-MICROSOFT-CDO-ALLDAYEVENT:FALSE
SUMMARY:VHC Board Retreat
DESCRIPTION:VHCC Board Meeting/ Retreat
X-ALT-DESC;FMTTYPE=text/html:VHCC Board Meeting/ Retreat&nbsp\;
LOCATION:Board Room
UID:e.2564.795368
SEQUENCE:3
DTSTAMP:20260420T060010Z
URL:https://business.bristolchamber.com/events/details/vhc-board-retreat-795368
END:VEVENT

END:VCALENDAR
