BEGIN:VCALENDAR
VERSION:2.0
PRODID:-//ChamberMaster//Event Calendar 2.0//EN
METHOD:PUBLISH
X-PUBLISHED-TTL:P3D
REFRESH-INTERVAL:P3D
CALSCALE:GREGORIAN
BEGIN:VEVENT
DTSTART:20190524T150000Z
DTEND:20190524T170000Z
X-MICROSOFT-CDO-ALLDAYEVENT:FALSE
SUMMARY:United Southeast Federal Credit Union's Annual Flags of Gratitude Cookout
DESCRIPTION:United Southeast Federal Credit Union will host the Annual Flags of Gratitude Cookout at their Corporate Office. All soldiers\, first responders and veterans are invited to come out for hot dogs and fixings as we give thanks to YOU.
X-ALT-DESC;FMTTYPE=text/html:<span style="color:#1F497D\;"><span style="font-family:calibri\,sans-serif\;"><span style="font-size:11.0pt\;">United Southeast Federal Credit Union will host the Annual Flags of Gratitude Cookout at their Corporate Office.&nbsp\;All soldiers\, first responders and veterans are invited to come out for hot dogs and fixings as we give thanks to YOU.&nbsp\;&nbsp\;</span></span></span>
LOCATION:United Southeast Federal Credit Union Corporate Office 1545 Bluff City Highway\, Bristol TN
UID:e.2564.792014
SEQUENCE:3
DTSTAMP:20260424T143946Z
URL:https://business.bristolchamber.com/events/details/united-southeast-federal-credit-union-s-annual-flags-of-gratitude-cookout-792014
END:VEVENT

END:VCALENDAR
