BEGIN:VCALENDAR
VERSION:2.0
PRODID:-//ChamberMaster//Event Calendar 2.0//EN
METHOD:PUBLISH
X-PUBLISHED-TTL:P3D
REFRESH-INTERVAL:P3D
CALSCALE:GREGORIAN
BEGIN:VEVENT
DTSTART:20220213T003000Z
DTEND:20220213T020000Z
X-MICROSOFT-CDO-ALLDAYEVENT:FALSE
SUMMARY:Twelfth Night presented by Theatre Bristol
DESCRIPTION:Let Theatre Bristol get you into the mood for loooovvee with William Shakespeare's Twelfth Night on the ARTspace stage February 11-14. Performances are Friday\, Saturday\, and Monday at 7:30 PM\, and Sunday at 2:30 PM. Tickets are $10 for adults and $8 for students and seniors. Bring your special someone and enjoy a night on the town with Twelfth Night. Tickets are available at theatrebristol.org. Shakespeare's "Twelfth Night" is a tragedy turned comedy as twins Viola and Sebastian are separated after a shipwreck off the Illyrian coast. Thinking the other dead\, Viola and Sebastian mourn their lost sibling. As they work to regain their footing on their separate paths\, they both find love as they meet some of the interesting characters of Illyria before finally being reunited. Performed and produced by the Youth Service Board and directed by Camille Gray\, celebrate Valentine's weekend with "Twelfth Night\," February 11-14. Tickets and details at www.TheatreBristol.org.
X-ALT-DESC;FMTTYPE=text/html:Let Theatre Bristol get you into the mood for loooovvee with William Shakespeare&rsquo\;s Twelfth Night on the ARTspace stage February 11-14. Performances are Friday\, Saturday\, and Monday at 7:30 PM\, and Sunday at 2:30 PM. Tickets are $10 for adults and $8 for students and seniors. Bring your special someone and enjoy a night on the town with Twelfth Night. Tickets are available at theatrebristol.org. Shakespeare&rsquo\;s &ldquo\;Twelfth Night&rdquo\; is a tragedy turned comedy as twins Viola and Sebastian are separated after a shipwreck off the Illyrian coast. Thinking the other dead\, Viola and Sebastian mourn their lost sibling. As they work to regain their footing on their separate paths\, they both find love as they meet some of the interesting characters of Illyria before finally being reunited. Performed and produced by the Youth Service Board and directed by Camille Gray\, celebrate Valentine&#39\;s weekend with &quot\;Twelfth Night\,&quot\; February 11-14. Tickets and details at www.TheatreBristol.org.
LOCATION:Theatre Bristol ARTspace 506 State Street Bristol\, TN
UID:e.2564.795068
SEQUENCE:3
DTSTAMP:20260422T150417Z
URL:https://business.bristolchamber.com/events/details/twelfth-night-presented-by-theatre-bristol-02-12-2022-795068
END:VEVENT

END:VCALENDAR
