BEGIN:VCALENDAR
VERSION:2.0
PRODID:-//ChamberMaster//Event Calendar 2.0//EN
METHOD:PUBLISH
X-PUBLISHED-TTL:P3D
REFRESH-INTERVAL:P3D
CALSCALE:GREGORIAN
BEGIN:VEVENT
DTSTART:20191028T213000Z
DTEND:20191028T233000Z
X-MICROSOFT-CDO-ALLDAYEVENT:FALSE
SUMMARY:Trunk or Treat
DESCRIPTION:The YMCA of Bristol will be hosting a Trunk or Treat and food drive for our community! \n\nThere will be so many things for your little witches\, warlocks\, ghosts\, and goblins to enjoy! Like our Best Decorated Trunk Contest\, bounce house\, a haunted walk\, and of course collect CANDY!\n\n\n\nAdmission to the event is an optional donation of non-perishable food item(s) for the Second Harvest Food Bank. We are still actively looking for more "trunks" to offer candy\; also donations of candy\, decorations\, or gift cards to purchase these items are welcome.
X-ALT-DESC;FMTTYPE=text/html:<span style="color:rgb(29\, 33\, 41)\; font-family:helvetica\,arial\,sans-serif\; font-size:14px">The YMCA of Bristol will be hosting a Trunk or Treat and food drive for our community! </span><br />\n<span style="color:rgb(29\, 33\, 41)\; font-family:helvetica\,arial\,sans-serif\; font-size:14px">There will be so many things for your little witches\, warlocks\, ghosts\, and goblins to enjoy! Like our Best Decorated Trunk Contest\, bounce house\, a haunted walk\, and of course collect CANDY!</span><br />\n<br />\n<span style="color:rgb(29\, 33\, 41)\; font-family:helvetica\,arial\,sans-serif\; font-size:14px">Admission to the event is an optional donation of non-perishable food item(s) for the Second Harvest Food Bank. We are still actively looking for more &quot\;trunks&quot\; to offer candy\; also donations of candy\, decorations\, or gift cards to purchase these items are welcome. </span>
LOCATION:YMCA of Bristol 400 MLK Jr. Blvd Bristol TN 37620
UID:e.2564.794130
SEQUENCE:3
DTSTAMP:20260423T020251Z
URL:https://business.bristolchamber.com/events/details/trunk-or-treat-794130
END:VEVENT

END:VCALENDAR
