BEGIN:VCALENDAR
VERSION:2.0
PRODID:-//ChamberMaster//Event Calendar 2.0//EN
METHOD:PUBLISH
X-PUBLISHED-TTL:P3D
REFRESH-INTERVAL:P3D
CALSCALE:GREGORIAN
BEGIN:VEVENT
DTSTART:20190413T113000Z
DTEND:20190413T150000Z
X-MICROSOFT-CDO-ALLDAYEVENT:FALSE
SUMMARY:Tri-Cities Race for the Cure
DESCRIPTION:Join us for our 14th Annual Tri-Cities Race for the Cure! 7am - 7:45 am - Late Registration & Packet Pick Up 7:30 am- Expo Opens & Stage Entertainment begins 8 am - 5K Race begins 8:45 am - 1 Mile Fun Run/Walk begins
X-ALT-DESC;FMTTYPE=text/html:Join us for our 14th Annual Tri-Cities Race for the Cure! 7am - 7:45 am - Late Registration &amp\; Packet Pick Up 7:30 am- Expo Opens &amp\; Stage Entertainment begins 8 am - 5K Race begins 8:45 am - 1 Mile Fun Run/Walk begins
LOCATION:Kingsport Center for Higher Education 300 W Market St\, Kingsport TN 37660
UID:e.2564.791936
SEQUENCE:3
DTSTAMP:20260424T161016Z
URL:https://business.bristolchamber.com/events/details/tri-cities-race-for-the-cure-04-13-2019-791936
END:VEVENT

END:VCALENDAR
