BEGIN:VCALENDAR
VERSION:2.0
PRODID:-//ChamberMaster//Event Calendar 2.0//EN
METHOD:PUBLISH
X-PUBLISHED-TTL:P3D
REFRESH-INTERVAL:P3D
CALSCALE:GREGORIAN
BEGIN:VEVENT
DTSTART:20191114T130000Z
DTEND:20191114T170000Z
X-MICROSOFT-CDO-ALLDAYEVENT:FALSE
SUMMARY:Tri-Cities Quality Forum
DESCRIPTION:60th Anniversary Conference on World Quality Day! Join as we have national quality speakers presented in a regional conference. Key learnings from 6 award-winning organizations\, including (for the first time!) all 3 of the region's Malcolm Baldrige National Quality Award winners.
X-ALT-DESC;FMTTYPE=text/html:60th Anniversary Conference on World Quality Day! Join as we have national quality speakers presented in a regional conference. Key learnings from 6 award-winning organizations\, including (for the first time!) all 3 of the region&#39\;s Malcolm Baldrige National Quality Award winners.
LOCATION:Toy F. Reid Eastman Employee Center 400 S. Wilcox Dr\, Kingsport TN 37664
UID:e.2564.794125
SEQUENCE:3
DTSTAMP:20260421T040526Z
URL:https://business.bristolchamber.com/events/details/tri-cities-quality-forum-794125
END:VEVENT

END:VCALENDAR
