BEGIN:VCALENDAR
VERSION:2.0
PRODID:-//ChamberMaster//Event Calendar 2.0//EN
METHOD:PUBLISH
X-PUBLISHED-TTL:P3D
REFRESH-INTERVAL:P3D
CALSCALE:GREGORIAN
BEGIN:VEVENT
DTSTART:20220623T233000Z
DTEND:20220626T020000Z
X-MICROSOFT-CDO-ALLDAYEVENT:FALSE
SUMMARY:The Sound of Music
DESCRIPTION:The hills are alive with the sound of music! Theatre Bristol takes the stage again this June with the beloved classic\, "The Sound of Music\," with director Glenn Patterson and sponsor Leticia Peltzer\, ENT & Allergy Consultants\, at The Paramount Center for the Arts. This two-weekend only breathtaking musical features amazing talent from around the region\, many seen in lauded Theatre Bristol productions on the Paramount stage such as Les Mis rables\, The Music Man\, Disney's Beauty and the Beast\, Annie\, The Wizard of Oz\, Into the Woods\, Fiddler on the Roof\, Joseph and the Amazing Technicolor Dreamcoat\, and more (www.TheatreBristol.org). Opening June 17 at 7:30 pm\, the production runs for two weekends\, Fridays and Saturdays at 7:30 pm\, Sundays at 2:30 pm\, Thursday\, June 23 at 7:30 pm\, closing on June 26. Tickets are $16 for adults and $12 for students and seniors\, with processing fees\, and can be purchased at ParamountBristol.org. Tickets can also be purchased at the door.
X-ALT-DESC;FMTTYPE=text/html:The hills are alive with the sound of music! Theatre Bristol takes the stage again this June with the beloved classic\, &ldquo\;The Sound of Music\,&rdquo\; with director Glenn Patterson and sponsor Leticia Peltzer\, ENT &amp\; Allergy Consultants\, at The Paramount Center for the Arts. This two-weekend only breathtaking musical features amazing talent from around the region\, many seen in lauded Theatre Bristol productions on the Paramount stage such as Les Mis&eacute\;rables\, The Music Man\, Disney&rsquo\;s Beauty and the Beast\, Annie\, The Wizard of Oz\, Into the Woods\, Fiddler on the Roof\, Joseph and the Amazing Technicolor Dreamcoat\, and more (www.TheatreBristol.org). Opening June 17 at 7:30 pm\, the production runs for two weekends\, Fridays and Saturdays at 7:30 pm\, Sundays at 2:30 pm\, Thursday\, June 23 at 7:30 pm\, closing on June 26. Tickets are $16 for adults and $12 for students and seniors\, with processing fees\, and can be purchased at ParamountBristol.org. Tickets can also be purchased at the door.
LOCATION:Paramount Center for the Arts 518 State Street Bristol\, TN 37620
UID:e.2564.795178
SEQUENCE:3
DTSTAMP:20260420T132740Z
URL:https://business.bristolchamber.com/events/details/the-sound-of-music-795178
END:VEVENT

END:VCALENDAR
