BEGIN:VCALENDAR
VERSION:2.0
PRODID:-//ChamberMaster//Event Calendar 2.0//EN
METHOD:PUBLISH
X-PUBLISHED-TTL:P3D
REFRESH-INTERVAL:P3D
CALSCALE:GREGORIAN
BEGIN:VEVENT
DTSTART:20191115T230000Z
DTEND:20200105T030000Z
X-MICROSOFT-CDO-ALLDAYEVENT:FALSE
SUMMARY:The Pinnacle Speedway in Lights
DESCRIPTION:The region's most dazzling holiday light show returns to Bristol Motor Speedway and Dragway. The Pinnacle Speedway In Lights\, Powered by TVA\, kicks off its 23rd season with more lights and a route that offers visitors the chance to take a lap around "The World's Fastest Half-Mile." Holiday light seekers will circle the concrete oval as part of their festive drive and also may visit Christmas Village\, which returns to its popular infield location.\n\nWitness the wonder of a 4-mile trek through 2 million Lights at The Pinnacle Speedway in Lights at Bristol Motor Speedway. Join us Nov. 15 - Jan 4\, 2020 from 6-10pm.
X-ALT-DESC;FMTTYPE=text/html:<p class="p1" style="box-sizing: border-box\; margin: 0px 0px 11px\; color: rgb(51\, 51\, 51)\; font-family: proxima-nova\; font-size: 16px\; background-color: rgb(255\, 255\, 255)\;">The region&#39\;s most dazzling holiday light show returns to Bristol Motor Speedway and Dragway. The Pinnacle Speedway In Lights\, Powered by TVA\, kicks off its 23rd&nbsp\;season with more lights and a route that offers visitors the chance to take a lap around &quot\;The World&#39\;s Fastest Half-Mile.&quot\; Holiday light seekers will circle the concrete oval as part of their festive drive and also may visit Christmas Village\, which returns to its popular infield location.</p>\n\n<p class="p1" style="box-sizing: border-box\; margin: 0px 0px 11px\; color: rgb(51\, 51\, 51)\; font-family: proxima-nova\; font-size: 16px\; background-color: rgb(255\, 255\, 255)\;"><span style="box-sizing: border-box\;">Witness the wonder of a 4-mile trek through 2 million Lights at The Pinnacle Speedway in Lights at Bristol Motor Speedway. Join us Nov. 15&nbsp\;- Jan 4\, 2020 from 6-10pm.</span></p>\n
LOCATION:Bristol Motor Speedway
UID:e.2564.794176
SEQUENCE:3
DTSTAMP:20260422T162454Z
URL:https://business.bristolchamber.com/events/details/the-pinnacle-speedway-in-lights-794176
END:VEVENT

END:VCALENDAR
