BEGIN:VCALENDAR
VERSION:2.0
PRODID:-//ChamberMaster//Event Calendar 2.0//EN
METHOD:PUBLISH
X-PUBLISHED-TTL:P3D
REFRESH-INTERVAL:P3D
CALSCALE:GREGORIAN
BEGIN:VEVENT
DTSTART:20220710T000000Z
DTEND:20220710T020000Z
X-MICROSOFT-CDO-ALLDAYEVENT:FALSE
SUMMARY:The Kenny & Dolly Show
DESCRIPTION:Justin Sullivan and Becca Bongiorno have been in the music industry for many years and because of their love and respect for Kenny & Dolly\, began their tributes around ten years ago. Both Justin and Becca also have a lifetime of music experience that they will bring to the Paramount stage!
X-ALT-DESC;FMTTYPE=text/html:Justin Sullivan and Becca Bongiorno have been in the music industry for many years and because of their love and respect for Kenny &amp\; Dolly\, began their tributes around ten years ago. Both Justin and Becca also have a lifetime of music experience that they will bring to the Paramount stage!
LOCATION:Paramount Bristol
UID:e.2564.795197
SEQUENCE:3
DTSTAMP:20260420T114358Z
URL:https://business.bristolchamber.com/events/details/the-kenny-dolly-show-795197
END:VEVENT

END:VCALENDAR
