BEGIN:VCALENDAR
VERSION:2.0
PRODID:-//ChamberMaster//Event Calendar 2.0//EN
METHOD:PUBLISH
X-PUBLISHED-TTL:P3D
REFRESH-INTERVAL:P3D
CALSCALE:GREGORIAN
BEGIN:VEVENT
DTSTART:20191224T180000Z
DTEND:20191225T000000Z
X-MICROSOFT-CDO-ALLDAYEVENT:FALSE
SUMMARY:The Ice Rink At Bristol Motor Speedway
DESCRIPTION:It's the Ice Rink at Bristol Motor Speedway presented by HVAC! Whether you're a beginner or a seasoned skating pro we invite you to load up the family and join us on the ice. The Ice Rink at Bristol Motor Speedway presented by HVAC marks it's 15th season of providing ice skating fun to individuals of all ages
X-ALT-DESC;FMTTYPE=text/html:<span style="color: rgb(51\, 51\, 51)\; font-family: proxima-nova\; font-size: 16px\; background-color: rgb(255\, 255\, 255)\;">It&rsquo\;s the Ice Rink at Bristol Motor Speedway presented by HVAC! Whether you&rsquo\;re a beginner or a seasoned skating pro we invite you to load up the family and join us on the ice. The Ice Rink at Bristol Motor Speedway presented by HVAC marks it&rsquo\;s 15th season of providing ice skating fun to individuals of all ages</span>
LOCATION:Bristol Motor Speedway
UID:e.2564.794235
SEQUENCE:3
DTSTAMP:20260424T043430Z
URL:https://business.bristolchamber.com/events/details/the-ice-rink-at-bristol-motor-speedway-794235
END:VEVENT

END:VCALENDAR
