BEGIN:VCALENDAR
VERSION:2.0
PRODID:-//ChamberMaster//Event Calendar 2.0//EN
METHOD:PUBLISH
X-PUBLISHED-TTL:P3D
REFRESH-INTERVAL:P3D
CALSCALE:GREGORIAN
BEGIN:VEVENT
DTSTART:20220204T010000Z
DTEND:20220204T030000Z
X-MICROSOFT-CDO-ALLDAYEVENT:FALSE
SUMMARY:The FABBA Show
DESCRIPTION:The FABBA Show   A Tribute to ABBA comes to Paramount Bristol on Thursday\, February 3 at 8:00 pm. Direct from the U.K.\, The FABBA Show is the sensational\, authentic and truly magical tribute to Abba. Tickets are $22 - $57\, plus taxes and fees\, and may be purchased by phone at (423) 274.8920\, at the Theatre Box Office or online at www.paramountbristol.org. Discounts available for Paramount Bristol members\, The Box Office is open Tuesday   Friday from Noon to 6:00 pm. The Paramount Center is located at 518 State St\, Bristol\, TN 37620. The show is appropriate for all ages.
X-ALT-DESC;FMTTYPE=text/html:The FABBA Show &ndash\; A Tribute to ABBA comes to Paramount Bristol on Thursday\, February 3 at 8:00 pm. Direct from the U.K.\, The FABBA Show is the sensational\, authentic and truly magical tribute to Abba. Tickets are $22 - $57\, plus taxes and fees\, and may be purchased by phone at (423) 274.8920\, at the Theatre Box Office or online at www.paramountbristol.org. Discounts available for Paramount Bristol members\, The Box Office is open Tuesday &ndash\; Friday from Noon to 6:00 pm. The Paramount Center is located at 518 State St\, Bristol\, TN 37620. The show is appropriate for all ages.
LOCATION:The Paramount Center for the Arts\, 518 State St\, Bristol\, TN 37620
UID:e.2564.795063
SEQUENCE:3
DTSTAMP:20260422T162555Z
URL:https://business.bristolchamber.com/events/details/the-fabba-show-795063
END:VEVENT

END:VCALENDAR
