BEGIN:VCALENDAR
VERSION:2.0
PRODID:-//ChamberMaster//Event Calendar 2.0//EN
METHOD:PUBLISH
X-PUBLISHED-TTL:P3D
REFRESH-INTERVAL:P3D
CALSCALE:GREGORIAN
BEGIN:VEVENT
DTSTART:20200207T230000Z
DTEND:20200208T003000Z
X-MICROSOFT-CDO-ALLDAYEVENT:FALSE
SUMMARY:The Business Mix
DESCRIPTION:Professionals come meet and nextwork. Happy hour from 6-7 and appetizers provided! Space is limited so RSVP is required! Looking to collaborate with other professionals? Come to this event!
X-ALT-DESC;FMTTYPE=text/html:<span style="color:rgb(0\, 0\, 0)\; font-family:uictfonttextstyletallbody\; font-size:17px">Professionals come meet and nextwork. Happy hour&nbsp\;</span><a dir="ltr" href="x-apple-data-detectors://0" style="caret-color: rgb(0\, 0\, 0)\; -webkit-text-size-adjust: auto\; font-family: UICTFontTextStyleTallBody\; font-size: 17px\; color: rgb(0\, 0\, 0)\; -webkit-text-decoration-color: rgba(0\, 0\, 0\, 0.258824)\;">from 6-7</a><span style="color:rgb(0\, 0\, 0)\; font-family:uictfonttextstyletallbody\; font-size:17px">&nbsp\;and appetizers provided! Space is limited so RSVP is required! Looking to collaborate with other professionals? Come to this event!</span>
LOCATION:Address-3119 Bristol Hwy Johnson City\, TN 37601
UID:e.2564.794289
SEQUENCE:3
DTSTAMP:20260424T030333Z
URL:https://business.bristolchamber.com/events/details/the-business-mix-02-07-2020-794289
END:VEVENT

END:VCALENDAR
