BEGIN:VCALENDAR
VERSION:2.0
PRODID:-//ChamberMaster//Event Calendar 2.0//EN
METHOD:PUBLISH
X-PUBLISHED-TTL:P3D
REFRESH-INTERVAL:P3D
CALSCALE:GREGORIAN
BEGIN:VEVENT
DTSTART:20210325T160000Z
DTEND:20210325T173000Z
X-MICROSOFT-CDO-ALLDAYEVENT:FALSE
SUMMARY:The Business Case for Childcare: why quality\, accessible\, affordable childcare is critical for our region’s success
DESCRIPTION:Twenty years ago our economic and workforce development groups discussed the growing challenge in our workforce and science showed us that high-quality\, accessible\, affordable childcare was crucial for strong workforces. Twenty years later we find ourselves having the same conversation and the science hasn't changed. \n\n\n\nJoin us for a panel discussion on "The Business Case for Childcare\; why quality\, accessible\, affordable childcare is critical for our region's success" We'll discuss challenges and opportunities\, pre- and post-COVID.  Kathy Waugh\, YWCA\, Cassandra Coffee Morelock\, SWVA United Way Early Childhood Initiative and others will join this conversation. 1 to 1.5 hours Register HERE for this event.
X-ALT-DESC;FMTTYPE=text/html:<p><span style="background-color:transparent\; color:rgb(0\, 0\, 0)\; font-family:arial">Twenty years ago our economic and workforce development groups discussed the growing challenge in our workforce and science showed us that high-quality\, accessible\, affordable childcare was crucial for strong workforces. Twenty years later we find ourselves having the same conversation and the science hasn&#39\;t changed.&nbsp\;<br />\n<br />\nJoin us for a&nbsp\;panel discussion on&nbsp\;<strong>&quot\;The Business Case for Childcare\; why quality\, accessible\, affordable childcare is critical for our region&rsquo\;s success&quot\; </strong>We&#39\;ll discuss challenges and opportunities\, pre- and post-COVID.&nbsp\; </span><span style="background-color:transparent">Kathy Waugh\,</span><span style="background-color:transparent\; color:rgb(0\, 0\, 0)\; font-family:arial"> YWCA\, C</span><span style="background-color:transparent\; font-family:arial">assandra Coffee Morelock</span><span style="background-color:transparent\; color:rgb(0\, 0\, 0)\; font-family:arial">\, SWVA United Way Early Childhood Initiative and others will join this conversation. 1 to 1.5 hours Register <strong><a href="https://zoom.us/meeting/register/tJIkcu6urTItGdEIbP8d8u2QDnL3WqjHyU4N" style="color: rgb(17\, 85\, 204)\;" target="_blank">HERE</a></strong> for this event.</span></p>\n\n<div>&nbsp\;</div>\n
LOCATION:Register in advance for this Zoom meeting by clicking HERE After registering\, you will receive a confirmation email containing information about joining the meeting.
UID:e.2564.794640
SEQUENCE:3
DTSTAMP:20260423T075147Z
URL:https://business.bristolchamber.com/events/details/the-business-case-for-childcare-why-quality-accessible-affordable-childcare-is-critical-for-our-region-s-success-794640
END:VEVENT

END:VCALENDAR
