BEGIN:VCALENDAR
VERSION:2.0
PRODID:-//ChamberMaster//Event Calendar 2.0//EN
METHOD:PUBLISH
X-PUBLISHED-TTL:P3D
REFRESH-INTERVAL:P3D
CALSCALE:GREGORIAN
BEGIN:VEVENT
DTSTART:20210409T210000Z
DTEND:20210412T020000Z
X-MICROSOFT-CDO-ALLDAYEVENT:FALSE
SUMMARY:The Battle at Buff Nation ESports Tournament\, Presented by Sharp Business Systems
DESCRIPTION:The Battle at Buff Nation ESports Tournament\, Presented by Sharp Business Systems\n\n**Now Fully Virtual for 2021**\n\nReturning for its second year with bigger and better games\, professional commentators\, giveaways\, larger prize purse and more! Registration is open NOW for both individual and team competitions and spaces are limited. Check out and follow the Facebook Event and BattleFy Page to stay up to date on the latest info. Spectators during the tournament are welcome at no charge!\n\nFor more information and registration\, click here.
X-ALT-DESC;FMTTYPE=text/html:<strong><span style="font-family:calibri\,sans-serif"><span style="font-size:11.0pt">The Battle at Buff Nation ESports Tournament\, Presented by <a href="https://www.sharp-sbs.com/">Sharp Business Systems</a></span></span></strong><br />\n<span style="color:#050505"><span style="font-size:11.5pt">**Now&nbsp\;</span></span><span style="font-size:12.0pt">Fully&nbsp\;Virtual&nbsp\;for&nbsp\;2021**<br />\nReturning for its second year with bigger and better games\, professional commentators\, giveaways\, larger prize purse and more!&nbsp\;<span style="color:#050505">Registration&nbsp\;is&nbsp\;open&nbsp\;NOW for both individual and team competitions and&nbsp\;spaces&nbsp\;are&nbsp\;limited. Check&nbsp\;out&nbsp\;and&nbsp\;follow&nbsp\;the&nbsp\;</span><span style="color:#333333"><a href="https://www.facebook.com/events/744553069657566" target="_blank"><span style="color:#5B7259">Facebook&nbsp\;Event</span></a></span><span style="color:#050505">&nbsp\;and&nbsp\;</span><span style="color:#333333"><a href="https://battlefy.com/milligan-esports" target="_blank"><span style="color:#5B7259">BattleFy&nbsp\;Page</span></a></span><span style="color:#050505">&nbsp\;to&nbsp\;stay up&nbsp\;to&nbsp\;date&nbsp\;on&nbsp\;the&nbsp\;latest&nbsp\;info. Spectators during the tournament are welcome at no charge!</span><br />\n<span style="color:#333333">For more information and registration\, click&nbsp\;</span><span style="color:blue"><a href="https://visitjohnsoncity.regfox.com/battle-at-buff-nation"><span style="color:#0782C1">here</span></a></span><span style="color:#333333">.</span></span>
LOCATION:Online
UID:e.2564.794651
SEQUENCE:3
DTSTAMP:20260423T062627Z
URL:https://business.bristolchamber.com/events/details/the-battle-at-buff-nation-esports-tournament-presented-by-sharp-business-systems-794651
END:VEVENT

END:VCALENDAR
