BEGIN:VCALENDAR
VERSION:2.0
PRODID:-//ChamberMaster//Event Calendar 2.0//EN
METHOD:PUBLISH
X-PUBLISHED-TTL:P3D
REFRESH-INTERVAL:P3D
CALSCALE:GREGORIAN
BEGIN:VEVENT
DTSTART:20220416T170000Z
DTEND:20220416T190000Z
X-MICROSOFT-CDO-ALLDAYEVENT:FALSE
SUMMARY:The 2022 Easter Eggstravaganza
DESCRIPTION:Don't let another Easter pass you by with the same old boring easter egg hunts. Join us for The 2022 Easter EGGstravaganza! We will have a glow in the dark putt putt\, hidden golden eggs\, cotton candy\, jump houses\, lots of candy and prizes!
X-ALT-DESC;FMTTYPE=text/html:Don&#39\;t let another Easter pass you by with the same old boring easter egg hunts. Join us for The 2022 Easter EGGstravaganza! We will have a glow in the dark putt putt\, hidden golden eggs\, cotton candy\, jump houses\, lots of candy and prizes!
LOCATION:Covenant Fellowship 224 Plaza Crossing Bristol\, VA 24201
UID:e.2564.795130
SEQUENCE:3
DTSTAMP:20260422T120120Z
URL:https://business.bristolchamber.com/events/details/the-2022-easter-eggstravaganza-795130
END:VEVENT

END:VCALENDAR
