BEGIN:VCALENDAR
VERSION:2.0
PRODID:-//ChamberMaster//Event Calendar 2.0//EN
METHOD:PUBLISH
X-PUBLISHED-TTL:P3D
REFRESH-INTERVAL:P3D
CALSCALE:GREGORIAN
BEGIN:VEVENT
DTSTART:20200817T121500Z
DTEND:20200817T173000Z
X-MICROSOFT-CDO-ALLDAYEVENT:FALSE
SUMMARY:Tee It Up for Breast Cancer
DESCRIPTION:Join us for a beautiful morning and Tee It Up for Breast Cancer!  Net proceeds from this event will benefit the women and men in our community to provide access to screening and diagnostic services\, and patient financial assistance while batting breast cancer.    8:15 am Breakfast and check in 9:00 am Shotgun start.  Boxed lunch and awards will follow. Awards will be given to the top three places in two flights.  There will be a putting green contest and opportunities to win door prizes.  Each player will receive a goody bag. If you are interested in being a Sponsor or donating a door prize\, please call 423.765.9313
X-ALT-DESC;FMTTYPE=text/html:Join us for a beautiful morning and Tee It Up for Breast Cancer!&nbsp\; Net proceeds from this event will benefit the women and men in our community to provide access to&nbsp\;screening and diagnostic services\,&nbsp\;and patient financial assistance while batting breast cancer.&nbsp\; &nbsp\; 8:15 am Breakfast and check in 9:00 am&nbsp\;Shotgun start.&nbsp\; Boxed lunch and awards will follow. Awards will be given to the top three places in two flights.&nbsp\; There will be a putting green contest and opportunities to win door prizes.&nbsp\; Each player will receive a goody bag. If you are interested in being a Sponsor or donating a door prize\, please call 423.765.9313
LOCATION:Cattails at Meadowview
UID:e.2564.794417
SEQUENCE:3
DTSTAMP:20260423T173321Z
URL:https://business.bristolchamber.com/events/details/tee-it-up-for-breast-cancer-794417
END:VEVENT

END:VCALENDAR
