BEGIN:VCALENDAR
VERSION:2.0
PRODID:-//ChamberMaster//Event Calendar 2.0//EN
METHOD:PUBLISH
X-PUBLISHED-TTL:P3D
REFRESH-INTERVAL:P3D
CALSCALE:GREGORIAN
BEGIN:VEVENT
DTSTART:20210505T150000Z
DTEND:20210505T220000Z
X-MICROSOFT-CDO-ALLDAYEVENT:FALSE
SUMMARY:T-Mobile Hometown Jobs Virtual Career Fair
DESCRIPTION:Join us online!\n\nWednesday May 5\, 2021\n\n11am - 6pm EST/8am - 3pm PST\n\n\n\nT-Mobile is coming to smaller markets and rural areas across the country\, bringing America's largest & fastest 5G network and the greatest career opportunities around. Join us to disrupt the status quo in a role that let's your talents shine!\n\nNow hiring for these roles\n\n\n	Retail Field Sales - Hometown Expert   (NEW Role!)\n	Retail Field Sales - Mobile Truck Event Expert\n	Retail Store Sales - Manager\n	Retail Store Sales - Associate Manager\n	Retail Store Sales - Mobile Associate\n\n\nCareer Fair Experience\n\nAttend this recruiting event from the comfort of your own home. You'll learn more about growth opportunities and what T-Mobile has to offer!\n\n\n	Live chats with recruiters\n	Videos from Retail leaders\n	Careers available nationwide\n	Incredible perks & benefits\n	Chance to become #TeamMagenta\n\n\nFor more information\, visit T-Mobile Hometown Jobs!
X-ALT-DESC;FMTTYPE=text/html:<h2 style="box-sizing: border-box\; font-family: Tele-GroteskFet\, sans-serif\; line-height: 1.1\; color: rgb(226\, 0\, 116)\; margin-top: 20px\; margin-bottom: 10px\; font-size: 30px\;">Join us online!</h2>\n\n<p style="box-sizing: border-box\; margin: 0px 0px 10px\; color: rgb(2\, 2\, 2)\; font-family: Tele-GroteskNor\, sans-serif\; font-size: 20px\;"><span style="box-sizing: border-box\; font-weight: 700\;">Wednesday May 5\, 2021</span></p>\n\n<p style="box-sizing: border-box\; margin: 0px 0px 10px\; color: rgb(2\, 2\, 2)\; font-family: Tele-GroteskNor\, sans-serif\; font-size: 20px\;"><span style="box-sizing: border-box\; font-weight: 700\;">11am - 6pm EST/8am - 3pm PST</span></p>\n\n<h3 style="box-sizing: border-box\; font-family: Tele-GroteskFet\, sans-serif\; line-height: 1.1\; color: rgb(226\, 0\, 117)\; margin-top: 30px\; margin-bottom: 20px\; font-size: 24px\;"><a name="careerfest" style="box-sizing: border-box\; background-image: initial\; background-position: 0px 0px\; background-size: initial\; background-repeat: initial\; color: rgb(66\, 139\, 202)\;"></a></h3>\n\n<p style="box-sizing: border-box\; margin: 0px 0px 10px\; color: rgb(2\, 2\, 2)\; font-family: Tele-GroteskNor\, sans-serif\; font-size: 20px\;">T-Mobile is coming to smaller markets and rural areas across the country\, bringing America&rsquo\;s largest &amp\; fastest 5G network&mdash\;and the greatest career opportunities around. Join us to disrupt the status quo in a role that let&rsquo\;s your talents shine!</p>\n\n<h3 style="box-sizing: border-box\; font-family: Tele-GroteskFet\, sans-serif\; line-height: 1.1\; color: rgb(226\, 0\, 116)\; margin-top: 30px\; margin-bottom: 20px\; font-size: 24px\;"><i style="box-sizing: border-box\;">Now hiring for these roles</i></h3>\n\n<ul style="box-sizing: border-box\; margin-top: 0px\; margin-bottom: 10px\; color: rgb(2\, 2\, 2)\; font-family: Tele-GroteskNor\, sans-serif\; font-size: 20px\;">\n	<li style="box-sizing: border-box\;">Retail Field Sales - Hometown Expert &ndash\; (NEW Role!)</li>\n	<li style="box-sizing: border-box\;">Retail Field Sales - Mobile Truck Event Expert</li>\n	<li style="box-sizing: border-box\;">Retail Store Sales - Manager</li>\n	<li style="box-sizing: border-box\;">Retail Store Sales - Associate Manager</li>\n	<li style="box-sizing: border-box\;">Retail Store Sales - Mobile Associate</li>\n</ul>\n\n<h3 style="box-sizing: border-box\; font-family: Tele-GroteskFet\, sans-serif\; line-height: 1.1\; color: rgb(226\, 0\, 116)\; margin-top: 30px\; margin-bottom: 20px\; font-size: 24px\;">Career Fair Experience</h3>\n\n<p style="box-sizing: border-box\; margin: 0px 0px 10px\; color: rgb(2\, 2\, 2)\; font-family: Tele-GroteskNor\, sans-serif\; font-size: 20px\;">Attend this recruiting event from the comfort of your own home. You&rsquo\;ll learn more about growth opportunities and what T-Mobile has to offer!</p>\n\n<ul style="box-sizing: border-box\; margin-top: 0px\; margin-bottom: 10px\; color: rgb(2\, 2\, 2)\; font-family: Tele-GroteskNor\, sans-serif\; font-size: 20px\;">\n	<li style="box-sizing: border-box\;">Live chats with recruiters</li>\n	<li style="box-sizing: border-box\;">Videos from Retail leaders</li>\n	<li style="box-sizing: border-box\;">Careers available nationwide</li>\n	<li style="box-sizing: border-box\;">Incredible perks &amp\; benefits</li>\n	<li style="box-sizing: border-box\;">Chance to become #TeamMagenta</li>\n</ul>\n\n<p style="box-sizing: border-box\; margin: 0px 0px 10px\; color: rgb(2\, 2\, 2)\; font-family: Tele-GroteskNor\, sans-serif\; font-size: 20px\;">For more information\, visit&nbsp\;<a href="https://www.t-mobile.com/careers/hometown-experts" rel="noopener noreferrer" style="box-sizing: border-box\; background: 0px 0px\; color: rgb(226\, 0\, 116)\; text-decoration-line: none\;" target="_blank">T-Mobile Hometown Jobs!</a></p>\n
LOCATION:Online
UID:e.2564.794871
SEQUENCE:3
DTSTAMP:20260423T045624Z
URL:https://business.bristolchamber.com/events/details/t-mobile-hometown-jobs-virtual-career-fair-794871
END:VEVENT

END:VCALENDAR
