BEGIN:VCALENDAR
VERSION:2.0
PRODID:-//ChamberMaster//Event Calendar 2.0//EN
METHOD:PUBLISH
X-PUBLISHED-TTL:P3D
REFRESH-INTERVAL:P3D
CALSCALE:GREGORIAN
BEGIN:VEVENT
DTSTART:20230715T171500Z
DTEND:20230715T200000Z
X-MICROSOFT-CDO-ALLDAYEVENT:FALSE
SUMMARY:Summer of Blooms Flowershow
DESCRIPTION:Hill and Dale Garden Club summer of Blooms Flower Show. Free admission. Tour the Grand Historical Sam Massengill Home. Please Join Us!! Stairs required
X-ALT-DESC;FMTTYPE=text/html:Hill and Dale Garden Club summer of Blooms Flower Show. Free admission. Tour the Grand Historical Sam Massengill Home. Please Join Us!! Stairs required
LOCATION:920 Holston Avenue Bristol\,TN 37620
UID:e.2564.795966
SEQUENCE:3
DTSTAMP:20260419T195423Z
URL:https://business.bristolchamber.com/events/details/summer-of-blooms-flowershow-795966
END:VEVENT

END:VCALENDAR
