BEGIN:VCALENDAR
VERSION:2.0
PRODID:-//ChamberMaster//Event Calendar 2.0//EN
METHOD:PUBLISH
X-PUBLISHED-TTL:P3D
REFRESH-INTERVAL:P3D
CALSCALE:GREGORIAN
BEGIN:VEVENT
DTSTART:20220617T220000Z
DTEND:20220618T020000Z
X-MICROSOFT-CDO-ALLDAYEVENT:FALSE
SUMMARY:Strong\, Smart\, Bold\, and Safe
DESCRIPTION:Personal safety seminar for women 15 and up\, covering the following topics: active threat\, firearm safety\, scam/fraud awareness\, and self-defense. Experience four\, 50-minute\, hands-on learning experiences that all focus on women's safety. Certificates are provided after completion. Part-one participants will have the opportunity to sign up and receive a discount for part two\, a gun range training at a later date. Benefitting Girls Inc. of Bristol
X-ALT-DESC;FMTTYPE=text/html:Personal safety seminar for women 15 and up\, covering the following topics: active threat\, firearm safety\, scam/fraud awareness\, and self-defense. Experience four\, 50-minute\, hands-on learning experiences that all focus on women&#39\;s safety. Certificates are provided after completion. Part-one participants will have the opportunity to sign up and receive a discount for part two\, a gun range training at a later date. Benefitting Girls Inc. of Bristol
LOCATION:Highlands Fellowship 134 Commerce Ct. Bristol\, VA 24201
UID:e.2564.795201
SEQUENCE:3
DTSTAMP:20260424T082602Z
URL:https://business.bristolchamber.com/events/details/strong-smart-bold-and-safe-795201
END:VEVENT

END:VCALENDAR
