BEGIN:VCALENDAR
VERSION:2.0
PRODID:-//ChamberMaster//Event Calendar 2.0//EN
METHOD:PUBLISH
X-PUBLISHED-TTL:P3D
REFRESH-INTERVAL:P3D
CALSCALE:GREGORIAN
BEGIN:VEVENT
DTSTART:20200313T223000Z
DTEND:20200314T030000Z
X-MICROSOFT-CDO-ALLDAYEVENT:FALSE
SUMMARY:St. Patrick's Day Bash
DESCRIPTION:Come join us for some Irish fun! Live entertainment sponsored by Starr Weddings & Entertainment\, food buffet\, silent auctions\, Kilt Man contest and much more! All proceeds benefit the Southern Appalachian Ronald McDonald House in Johnson City\, TN. The House provides a temporary home away from home for critically ill children and their families while the children receive medical care in any local hospital. Although the House is located in Johnson City\, it is regional in services\; 56% of the families we serve are from Southwest VA\, 28% Northeast TN\, 9% from Eastern KY and 7% from other US states.
X-ALT-DESC;FMTTYPE=text/html:Come join us for some Irish fun! Live entertainment sponsored by Starr Weddings &amp\; Entertainment\, food buffet\, silent auctions\, Kilt Man contest and much more! All proceeds benefit the Southern Appalachian Ronald McDonald House in Johnson City\, TN. The House provides a temporary home away from home for critically ill children and their families while the children receive medical care in any local hospital. Although the House is located in Johnson City\, it is regional in services\; 56% of the families we serve are from Southwest VA\, 28% Northeast TN\, 9% from Eastern KY and 7% from other US states.
LOCATION:Meadowview Convention Center - Grand Ballroom
UID:e.2564.794368
SEQUENCE:3
DTSTAMP:20260421T094511Z
URL:https://business.bristolchamber.com/events/details/st-patrick-s-day-bash-794368
END:VEVENT

END:VCALENDAR
