BEGIN:VCALENDAR
VERSION:2.0
PRODID:-//ChamberMaster//Event Calendar 2.0//EN
METHOD:PUBLISH
X-PUBLISHED-TTL:P3D
REFRESH-INTERVAL:P3D
CALSCALE:GREGORIAN
BEGIN:VEVENT
DTSTART:20230329T173000Z
DTEND:20230329T203000Z
X-MICROSOFT-CDO-ALLDAYEVENT:FALSE
SUMMARY:Spring Career Fair - Northeast State Community College
DESCRIPTION:The Career & Workforce Development Center at Northeast State Community College is excited to host the Spring Career Fair. This event provides a wonderful opportunity for students and job seekers to learn about job opportunities in a variety of career sectors. The general public is welcome to attend this free event.
X-ALT-DESC;FMTTYPE=text/html:The Career &amp\; Workforce Development Center at Northeast State Community College is excited to host the Spring Career Fair. This event provides a wonderful opportunity for students and job seekers to learn about job opportunities in a variety of career sectors. The general public is welcome to attend this free event.
LOCATION:Northeast State Community College Technical Education Complex 2425 Highway 75 Blountville\, TN 37617
UID:e.2564.795855
SEQUENCE:3
DTSTAMP:20260420T000149Z
URL:https://business.bristolchamber.com/events/details/spring-career-fair-northeast-state-community-college-795855
END:VEVENT

END:VCALENDAR
