BEGIN:VCALENDAR
VERSION:2.0
PRODID:-//ChamberMaster//Event Calendar 2.0//EN
METHOD:PUBLISH
X-PUBLISHED-TTL:P3D
REFRESH-INTERVAL:P3D
CALSCALE:GREGORIAN
BEGIN:VEVENT
DTSTART;VALUE=DATE:20191130
DTEND;VALUE=DATE:20191201
TRANSP:TRANSPARENT
X-MICROSOFT-CDO-ALLDAYEVENT:TRUE
SUMMARY:Small Business Saturday
DESCRIPTION:Shop local and support your small businesses!
X-ALT-DESC;FMTTYPE=text/html:Shop local and support your small businesses!
LOCATION:Bristol VA/TN
UID:e.2564.794192
SEQUENCE:3
DTSTAMP:20260421T075618Z
URL:https://business.bristolchamber.com/events/details/small-business-saturday-794192
END:VEVENT

END:VCALENDAR
