BEGIN:VCALENDAR
VERSION:2.0
PRODID:-//ChamberMaster//Event Calendar 2.0//EN
METHOD:PUBLISH
X-PUBLISHED-TTL:P3D
REFRESH-INTERVAL:P3D
CALSCALE:GREGORIAN
BEGIN:VEVENT
DTSTART:20231021T150000Z
DTEND:20231021T200000Z
X-MICROSOFT-CDO-ALLDAYEVENT:FALSE
SUMMARY:Shine Academy Fall Community Market & Raffle
DESCRIPTION:Come on out to support Shine at our Fall Community Market! Something for everyone and all for a good cause! We'll have craft vendors\, Scentsy\, PaperPie\, and Young Living reps\, yard sale items\, food trucks\, an author signing\, a huge raffle with chances to win baskets\, and even tickets to attractions in Pigeon Forge. The event will be held on October 21st from 11 AM-4 PM at Antioch Baptist Church which is located at 190 Salem Drive\, Bristol\, VA\, 24201. Parking will be on the side of the church. Vendors & food trucks will be behind the church in the small parking lot & building.
X-ALT-DESC;FMTTYPE=text/html:Come on out to support Shine at our Fall Community Market! Something for everyone and all for a good cause! We&#39\;ll have craft vendors\, Scentsy\, PaperPie\, and Young Living reps\, yard sale items\, food trucks\, an author signing\, a huge raffle with chances to win baskets\, and even tickets to attractions in Pigeon Forge. The event will be held on October 21st from 11 AM-4 PM at Antioch Baptist Church which is located at 190 Salem Drive\, Bristol\, VA\, 24201. Parking will be on the side of the church. Vendors &amp\; food trucks will be behind the church in the small parking lot &amp\; building.
LOCATION:Antioch Baptist Church 190 Salem Drive\, Bristol\, VA\, 24201.
UID:e.2564.796019
SEQUENCE:3
DTSTAMP:20260419T143031Z
URL:https://business.bristolchamber.com/events/details/shine-academy-fall-community-market-raffle-796019
END:VEVENT

END:VCALENDAR
