BEGIN:VCALENDAR
VERSION:2.0
PRODID:-//ChamberMaster//Event Calendar 2.0//EN
METHOD:PUBLISH
X-PUBLISHED-TTL:P3D
REFRESH-INTERVAL:P3D
CALSCALE:GREGORIAN
BEGIN:VEVENT
DTSTART:20230318T200000Z
DTEND:20230318T220000Z
X-MICROSOFT-CDO-ALLDAYEVENT:FALSE
SUMMARY:Shamrock Shuffle
DESCRIPTION:Come join the fun and be part of the 3rd Annual Shamrock Shuffle 5k benefiting Southern Appalachian Ronald McDonald House on March 18\, 2023 with a 4 p.m. start time. This is a great way to celebrate St. Patty's Day! Regardless of whether you run\, jog\, walk or simply shuffle your way to the finish line\, we encourage you to join us.
X-ALT-DESC;FMTTYPE=text/html:Come join the fun and be part of the 3rd Annual Shamrock Shuffle 5k benefiting Southern Appalachian Ronald McDonald House on March 18\, 2023 with a 4 p.m. start time. This is a great way to celebrate St. Patty&rsquo\;s Day! Regardless of whether you run\, jog\, walk or simply shuffle your way to the finish line\, we encourage you to join us.
LOCATION:King Commons Park\, Downtown Johnson City
UID:e.2564.795840
SEQUENCE:3
DTSTAMP:20260419T235748Z
URL:https://business.bristolchamber.com/events/details/shamrock-shuffle-795840
END:VEVENT

END:VCALENDAR
