BEGIN:VCALENDAR
VERSION:2.0
PRODID:-//ChamberMaster//Event Calendar 2.0//EN
METHOD:PUBLISH
X-PUBLISHED-TTL:P3D
REFRESH-INTERVAL:P3D
CALSCALE:GREGORIAN
BEGIN:VEVENT
DTSTART:20210320T213000Z
DTEND:20210321T000000Z
X-MICROSOFT-CDO-ALLDAYEVENT:FALSE
SUMMARY:Shamrock Shuffle 5K
DESCRIPTION:Come join the fun and be part of the 1st Annual Shamrock Shuffle 5k benefiting Southern Appalachian Ronald McDonald House on May 20\, 2021 with a 5:30 p.m. start time. This is a great way to celebrate St. Patty's Day! Regardless of whether you run\, jog\, walk or simply shuffle your way to the finish line\, we encourage you to join us.
X-ALT-DESC;FMTTYPE=text/html:Come join the fun and be part of the 1st Annual Shamrock Shuffle 5k benefiting Southern Appalachian Ronald McDonald House on May 20\, 2021 with a 5:30 p.m. start time. This is a great way to celebrate St. Patty&rsquo\;s Day! Regardless of whether you run\, jog\, walk or simply shuffle your way to the finish line\, we encourage you to join us.
LOCATION:Hopewell Drive - Johnson City Parking at East TN Brain and Spine Center (701 Med Tech Parkway\, Johnson City) This is beside TruPoint Bank and near the Johnson City Post Office on State of Franklin Road
UID:e.2564.794624
SEQUENCE:3
DTSTAMP:20260423T074042Z
URL:https://business.bristolchamber.com/events/details/shamrock-shuffle-5k-794624
END:VEVENT

END:VCALENDAR
