BEGIN:VCALENDAR
VERSION:2.0
PRODID:-//ChamberMaster//Event Calendar 2.0//EN
METHOD:PUBLISH
X-PUBLISHED-TTL:P3D
REFRESH-INTERVAL:P3D
CALSCALE:GREGORIAN
BEGIN:VEVENT
DTSTART:20220319T200000Z
DTEND:20220319T220000Z
X-MICROSOFT-CDO-ALLDAYEVENT:FALSE
SUMMARY:Shamrock Shuffle 5K
DESCRIPTION:Come join the fun and be part of the  2nd Annual Shamrock Shuffle 5k benefiting Southern Appalachian Ronald McDonald House on March 19\, 2022 with a 4 p.m. start time.  This is a great way to celebrate St. Patty's Day! Regardless of whether you run\, jog\, walk or simply shuffle your way to the finish line\, we encourage you to join us.\n\nStart/Finish location: \n\nKing Commons\, Downtown Johnson City\n\nPacket Pickup and parking:\n\nMarch 18 from 11 a.m.   1 p.m. DRIVE THRU PICKUP ONLY at Ronald McDonald House (418 N State of Franklin Rd)\n\nMarch 19 at 2 p.m. King Commons\n\nAwards:\n\nAwards for both men and women include: Top 3 overall\, Top Male & Female Masters\, Top Male & Female GrandMasters\, Age Groups (9 & Under\, 10-14\, 15-19\, 20-29\, 30-39\, 40-49\, 50-59\, 60-69\, 70 & Older)\n\nVirtual Race Option: We recommend the virtual option for those runners who want to keep socially distant or have scheduling conflicts. This is a great way to still participate!
X-ALT-DESC;FMTTYPE=text/html:<p>Come join the fun and be part of the&nbsp\;<strong>&nbsp\;2nd Annual Shamrock Shuffle 5k benefiting Southern Appalachian Ronald McDonald House</strong>&nbsp\;on&nbsp\;<strong>March 19\, 2022 with a 4 p.m. start time</strong>. &nbsp\;This is a great way to&nbsp\;celebrate St. Patty&rsquo\;s Day! Regardless of whether you run\, jog\, walk or simply shuffle your way to the finish line\, we encourage you to join us.</p>\n\n<p><strong>Start/Finish location:&nbsp\;</strong></p>\n\n<p>King Commons\, Downtown Johnson City</p>\n\n<p><strong>Packet Pickup and p</strong><strong>arking:</strong></p>\n\n<p>March 18 from 11 a.m. &ndash\; 1 p.m.&nbsp\;<em>DRIVE THRU PICKUP ONLY</em>&nbsp\;at Ronald McDonald House (418 N State of Franklin Rd)</p>\n\n<p>March 19 at 2 p.m. King Commons</p>\n\n<p><strong>Awards:</strong></p>\n\n<p>Awards for both men and women include: Top 3 overall\, Top Male &amp\; Female Masters\, Top Male &amp\; Female GrandMasters\, Age Groups (9 &amp\; Under\, 10-14\, 15-19\, 20-29\, 30-39\, 40-49\, 50-59\, 60-69\, 70 &amp\; Older)</p>\n\n<p><strong>Virtual Race Option:</strong>&nbsp\;We recommend the virtual option for those runners who want to keep socially distant or have scheduling conflicts. This is a great way to still participate!</p>\n
LOCATION:King Commons Park 112 N Commerce St. Johnson City\, TN 37604
UID:e.2564.795111
SEQUENCE:3
DTSTAMP:20260422T144858Z
URL:https://business.bristolchamber.com/events/details/shamrock-shuffle-5k-03-19-2022-795111
END:VEVENT

END:VCALENDAR
