BEGIN:VCALENDAR
VERSION:2.0
PRODID:-//ChamberMaster//Event Calendar 2.0//EN
METHOD:PUBLISH
X-PUBLISHED-TTL:P3D
REFRESH-INTERVAL:P3D
CALSCALE:GREGORIAN
BEGIN:VEVENT
DTSTART:20190510T113000Z
DTEND:20190510T210000Z
X-MICROSOFT-CDO-ALLDAYEVENT:FALSE
SUMMARY:Sergeant Hinkle Memorial Blood Drive
DESCRIPTION:Please join the Sullivan County Sheriff's Office and Bristol Regional Medical Center for a memorial blood drive honoring fallen police officer\, Sergeant Steve Hinkle. Donate in one of three locations: **May 9th- Bristol Regional Medical Center Walnut Willow Spruce Room 2 p.m. - 8 p.m. May 10th- Bristol Regional Medical Center Walnut Willow Spruce Room 7:30 a.m. - 4 p.m. Marsh Regional Blood Center (Bristol\, JC\, Kingsport) 8:30 a.m. - 4 p.m. Sullivan County Sheriff's Office 11:30 a.m. - 5 p.m. *All donors will receive a commemorative t-shirt honoring the memory of community hero\, Sergeant Steve Hinkle
X-ALT-DESC;FMTTYPE=text/html:Please join the Sullivan County Sheriff&#39\;s Office and Bristol Regional Medical Center for a memorial blood drive honoring fallen police officer\, Sergeant Steve Hinkle. Donate in one of three locations: **May 9th- Bristol Regional Medical Center Walnut Willow Spruce Room 2 p.m. - 8 p.m. May 10th- Bristol Regional Medical Center Walnut Willow Spruce Room 7:30 a.m. - 4 p.m. Marsh Regional Blood Center (Bristol\, JC\, Kingsport) 8:30 a.m. - 4 p.m. Sullivan County Sheriff&#39\;s Office 11:30 a.m. - 5 p.m. *All donors will receive a commemorative t-shirt honoring the memory of community hero\, Sergeant Steve Hinkle
LOCATION:Sullivan County Sheriff's Office Bristol Regional Medical Center Marsh Regional Blood Center (Bristol\, Johnson City\, Kingsport)
UID:e.2564.792000
SEQUENCE:3
DTSTAMP:20260419T190138Z
URL:https://business.bristolchamber.com/events/details/sergeant-hinkle-memorial-blood-drive-792000
END:VEVENT

END:VCALENDAR
