BEGIN:VCALENDAR
VERSION:2.0
PRODID:-//ChamberMaster//Event Calendar 2.0//EN
METHOD:PUBLISH
X-PUBLISHED-TTL:P3D
REFRESH-INTERVAL:P3D
CALSCALE:GREGORIAN
BEGIN:VEVENT
DTSTART:20230917T200000Z
DTEND:20230917T230000Z
X-MICROSOFT-CDO-ALLDAYEVENT:FALSE
SUMMARY:Second Harvest Food Bank's The Farmer & The Chef
DESCRIPTION:Help us feed those in need by joining us for our signature annual culinary event with regional chefs preparing dishes using locally sourced fresh ingredients. The event will include live music and a live auction with a variety of items. Proceeds from this major fundraiser benefit Second Harvest Food Bank of Northeast Tennessee.
X-ALT-DESC;FMTTYPE=text/html:Help us feed those in need by joining us for our signature annual culinary event with regional chefs preparing dishes using locally sourced fresh ingredients. The event will include live music and a live auction with a variety of items. Proceeds from this major fundraiser benefit Second Harvest Food Bank of Northeast Tennessee.
LOCATION:Blackthorn Club
UID:e.2564.796013
SEQUENCE:3
DTSTAMP:20260419T155256Z
URL:https://business.bristolchamber.com/events/details/second-harvest-food-bank-s-the-farmer-the-chef-796013
END:VEVENT

END:VCALENDAR
