BEGIN:VCALENDAR
VERSION:2.0
PRODID:-//ChamberMaster//Event Calendar 2.0//EN
METHOD:PUBLISH
X-PUBLISHED-TTL:P3D
REFRESH-INTERVAL:P3D
CALSCALE:GREGORIAN
BEGIN:VEVENT
DTSTART:20190603T140000Z
DTEND:20190603T210000Z
X-MICROSOFT-CDO-ALLDAYEVENT:FALSE
SUMMARY:Second Harvest Food Bank Golf Classic
DESCRIPTION:Help feed the hungry by participating in the 26th Annual Golf Classic sponsored by Bill Gatton Acura\, Chevrolet\, Cadillac\, Honda\, Mazda\, and Nissan $25\,000 Hole in One Prize Each player's packet includes the following: Green fees\, cart fees\, lunch\, beverages\, snacks\, door prizes\, and a chance to win a Hole-In-One Prize\, prizes on all par 3's\, The Longest Drive\, Closest to the Pin\, and Closest to the Line Register the following ways: online using this form Fax: (423) 279-0590 E-mail: arhem@netfoodbank.org Mail: Second Harvest Food Bank of Northeast Tennessee 1020 Jericho Drive\; Kingsport\, TN 37663 Phone: (423) 279-0430
X-ALT-DESC;FMTTYPE=text/html:Help feed the hungry by participating in the 26th Annual Golf Classic sponsored by Bill Gatton Acura\, Chevrolet\, Cadillac\, Honda\, Mazda\, and Nissan $25\,000 Hole in One Prize Each player&#39\;s packet includes the following: Green fees\, cart fees\, lunch\, beverages\, snacks\, door prizes\, and a chance to win a Hole-In-One Prize\, prizes on all par 3&#39\;s\, The Longest Drive\, Closest to the Pin\, and Closest to the Line Register the following ways: online using this form Fax: (423) 279-0590 E-mail: arhem@netfoodbank.org Mail: Second Harvest Food Bank of Northeast Tennessee 1020 Jericho Drive\; Kingsport\, TN 37663 Phone: (423) 279-0430
LOCATION:The Blackthorn Club 1501 Ridges Club Drive\; Jonesborough\, TN 37659
UID:e.2564.791988
SEQUENCE:3
DTSTAMP:20260424T143340Z
URL:https://business.bristolchamber.com/events/details/second-harvest-food-bank-golf-classic-791988
END:VEVENT

END:VCALENDAR
