BEGIN:VCALENDAR
VERSION:2.0
PRODID:-//ChamberMaster//Event Calendar 2.0//EN
METHOD:PUBLISH
X-PUBLISHED-TTL:P3D
REFRESH-INTERVAL:P3D
CALSCALE:GREGORIAN
BEGIN:VEVENT
DTSTART:20221106T170000Z
DTEND:20221225T020000Z
X-MICROSOFT-CDO-ALLDAYEVENT:FALSE
SUMMARY:Santa’s Wonderland returns to Bass Pro Shops with FREE photos with Santa
DESCRIPTION:Bass Pro Shops and Cabela's is proud to invite families to the beloved tradition of visiting Santa Claus this holiday season during the annual Santa's Wonderland experience. Visit your local store to be one of the millions of families to take a FREE photo with Santa. Photo sessions will start on Sunday\, November 6. Reservations are recommended. To learn more and make a reservation\, visit www.basspro.com/santa.
X-ALT-DESC;FMTTYPE=text/html:Bass Pro Shops and Cabela&rsquo\;s is proud to invite families to the beloved tradition of visiting Santa Claus this holiday season during the annual Santa&rsquo\;s Wonderland experience. Visit your local store to be one of the millions of families to take a FREE photo with Santa. Photo sessions will start on Sunday\, November 6. Reservations are recommended. To learn more and make a reservation\, visit www.basspro.com/santa.
LOCATION:Bass Pro Shops 1 Bass Pro Dr Bristol\, TN 37620
UID:e.2564.795369
SEQUENCE:3
DTSTAMP:20260420T043733Z
URL:https://business.bristolchamber.com/events/details/santa-s-wonderland-returns-to-bass-pro-shops-with-free-photos-with-santa-795369
END:VEVENT

END:VCALENDAR
