BEGIN:VCALENDAR
VERSION:2.0
PRODID:-//ChamberMaster//Event Calendar 2.0//EN
METHOD:PUBLISH
X-PUBLISHED-TTL:P3D
REFRESH-INTERVAL:P3D
CALSCALE:GREGORIAN
BEGIN:VEVENT
DTSTART:20231105T140000Z
DTEND:20231224T220000Z
X-MICROSOFT-CDO-ALLDAYEVENT:FALSE
SUMMARY:Santa’s Wonderland Returns to Bass Pro Shops with FREE photos with Santa
DESCRIPTION:Bass Pro Shops and Cabela's are proud to invite families to the beloved tradition of visiting Santa Claus this holiday season during the annual Santa's Wonderland experience. Visit your local store to be one of the more than two million kids and families to take a photo with Santa. Photo sessions will start on Sunday\, November 5. Reservations are strongly recommended. To learn more and make a reservation\, visit www.basspro.com/santa.
X-ALT-DESC;FMTTYPE=text/html:Bass Pro Shops and Cabela&rsquo\;s are proud to invite families to the beloved tradition of visiting Santa Claus this holiday season during the annual Santa&rsquo\;s Wonderland experience. Visit your local store to be one of the more than two million kids and families to take a photo with Santa. Photo sessions will start on Sunday\, November 5. Reservations are strongly recommended. To learn more and make a reservation\, visit www.basspro.com/santa.
LOCATION:Bass Pro Shops 1 Bass Pro Dr Bristol\, TN 37620
UID:e.2564.796088
SEQUENCE:3
DTSTAMP:20260419T131837Z
URL:https://business.bristolchamber.com/events/details/santa-s-wonderland-returns-to-bass-pro-shops-with-free-photos-with-santa-11-05-2023-796088
END:VEVENT

END:VCALENDAR
