BEGIN:VCALENDAR
VERSION:2.0
PRODID:-//ChamberMaster//Event Calendar 2.0//EN
METHOD:PUBLISH
X-PUBLISHED-TTL:P3D
REFRESH-INTERVAL:P3D
CALSCALE:GREGORIAN
BEGIN:VEVENT
DTSTART:20211107T140000Z
DTEND:20211225T020000Z
X-MICROSOFT-CDO-ALLDAYEVENT:FALSE
SUMMARY:Santa’s Wonderland Continues In-person at Bass Pro Shops featuring FREE photos with Santa
DESCRIPTION:Santa will be cruising into Bristol this Saturday\, November 6 to officially kick off Santa's Wonderland\, the ultimate free family Christmas event\, at Bass Pro Shops. Bass Pro Shops and Cabela's plans to deliver free photos with Santa to more than two million kids and families this holiday season with a "Contactless Claus" experience. Photos with Santa will start on November 7 with FREE advance reservations\, which can be made beginning November 1. To learn more and make a reservation\, visit https://www.basspro.com/shop/en/santas-wonderland.
X-ALT-DESC;FMTTYPE=text/html:Santa will be cruising into Bristol this Saturday\, November 6 to officially kick off Santa&rsquo\;s Wonderland\, the ultimate free family Christmas event\, at Bass Pro Shops. Bass Pro Shops and Cabela&rsquo\;s plans to deliver free photos with Santa to more than two million kids and families this holiday season with a &ldquo\;Contactless Claus&rdquo\; experience. Photos with Santa will start on November 7 with FREE advance reservations\, which can be made beginning November 1. To learn more and make a reservation\, visit https://www.basspro.com/shop/en/santas-wonderland.
LOCATION:Bass Pro Shops 1 Bass Pro Dr Bristol\, TN 37620
UID:e.2564.795001
SEQUENCE:3
DTSTAMP:20260422T194549Z
URL:https://business.bristolchamber.com/events/details/santa-s-wonderland-continues-in-person-at-bass-pro-shops-featuring-free-photos-with-santa-795001
END:VEVENT

END:VCALENDAR
