BEGIN:VCALENDAR
VERSION:2.0
PRODID:-//ChamberMaster//Event Calendar 2.0//EN
METHOD:PUBLISH
X-PUBLISHED-TTL:P3D
REFRESH-INTERVAL:P3D
CALSCALE:GREGORIAN
BEGIN:VEVENT
DTSTART:20191116T213000Z
DTEND:20191117T010000Z
X-MICROSOFT-CDO-ALLDAYEVENT:FALSE
SUMMARY:Santa Arrives at Bass Pro
DESCRIPTION:Santa will arrive at Bass Pro Shops at 5 pm on Saturday\, November 16. -Free cookies and hot chocolate will be served beginning at 4:30. -Tree lighting at 5:30. -Photos and crafts will begin at 6 pm -Join us for prizes\, giveaways\, and a lot of fun!
X-ALT-DESC;FMTTYPE=text/html:Santa will arrive at Bass Pro Shops at 5 pm on Saturday\, November 16. -Free cookies and hot chocolate will be served beginning at 4:30. -Tree lighting at 5:30. -Photos and crafts will begin at 6 pm -Join us for prizes\, giveaways\, and a lot of fun!
LOCATION:Bass Pro Shops\, 1 Bass Pro Drive\, Bristol\, TN 37620
UID:e.2564.794162
SEQUENCE:3
DTSTAMP:20260424T055752Z
URL:https://business.bristolchamber.com/events/details/santa-arrives-at-bass-pro-794162
END:VEVENT

END:VCALENDAR
