BEGIN:VCALENDAR
VERSION:2.0
PRODID:-//ChamberMaster//Event Calendar 2.0//EN
METHOD:PUBLISH
X-PUBLISHED-TTL:P3D
REFRESH-INTERVAL:P3D
CALSCALE:GREGORIAN
BEGIN:VEVENT
DTSTART:20191101T233000Z
DTEND:20191102T023000Z
X-MICROSOFT-CDO-ALLDAYEVENT:FALSE
SUMMARY:Russian Ballet Theatre presents “Swan Lake”
DESCRIPTION:Swan Lake\, which has mesmerized audiences for over a century\, is based on a German fairy tale. Tchaikovsky's score tells the tragic love story of Prince Siegfried and Swan Princess\, Odette\, who is cursed to be a swan by day but a young woman at night. The Russian Ballet Theatre's new production will captivate audiences with time-honored Russian traditions while adding new choreography\, hand painted sets\, radiant hand sewn costumes\, artistic hair designs and special effects makeup. The production's hand-painted sets and more than 150 hand-sewn costumes were created in the tradition of the great masters by young\, accomplished designer Sergei Novikov (Mariinksy Theatre\, Omsk State Music Theatre\, St. Petersburg State Music Hall). The SFX makeup is done by Award-winning Irina Strukova (Crazy Rich Asians\, Netflix\, HBO) and will make ballet devotees feel as though they are seeing the beautiful Swan Lake for the first time!
X-ALT-DESC;FMTTYPE=text/html:Swan Lake\, which has mesmerized audiences for over a century\, is based on a German fairy tale. Tchaikovsky&rsquo\;s score tells the tragic love story of Prince Siegfried and Swan Princess\, Odette\, who is cursed to be a swan by day but a young woman at night. The Russian Ballet Theatre&rsquo\;s new production will captivate audiences with time-honored Russian traditions while adding new choreography\, hand painted sets\, radiant hand sewn costumes\, artistic hair designs and special effects makeup. The production&rsquo\;s hand-painted sets and more than 150 hand-sewn costumes were created in the tradition of the great masters by young\, accomplished designer Sergei Novikov (Mariinksy Theatre\, Omsk State Music Theatre\, St. Petersburg State Music Hall). The SFX makeup is done by Award-winning Irina Strukova (Crazy Rich Asians\, Netflix\, HBO) and will make ballet devotees feel as though they are seeing the beautiful Swan Lake for the first time!
LOCATION:Paramount Center for the Arts 518 State St Bristol\, TN 37620
UID:e.2564.792069
SEQUENCE:3
DTSTAMP:20260424T055936Z
URL:https://business.bristolchamber.com/events/details/russian-ballet-theatre-presents-swan-lake-792069
END:VEVENT

END:VCALENDAR
