BEGIN:VCALENDAR
VERSION:2.0
PRODID:-//ChamberMaster//Event Calendar 2.0//EN
METHOD:PUBLISH
X-PUBLISHED-TTL:P3D
REFRESH-INTERVAL:P3D
CALSCALE:GREGORIAN
BEGIN:VEVENT
DTSTART:20181023T130000Z
DTEND:20181023T133000Z
X-MICROSOFT-CDO-ALLDAYEVENT:FALSE
SUMMARY:Ribbon Cutting - Ultimate Shine Car Wash
DESCRIPTION:Join us for a ribbon cutting celebration at the Ultimate Shine Car Wash on Tuesday\, October 23 at 9 a.m.\n\nAll those in attendance will leave with a shiny\, clean car!
X-ALT-DESC;FMTTYPE=text/html:Join us for a ribbon cutting celebration at the Ultimate Shine Car Wash on Tuesday\, October 23 at 9 a.m.<br />\nAll those in attendance will leave with a shiny\, clean car!
LOCATION:1309 Euclid Avenue Bristol\, VA 24201
UID:e.2564.791717
SEQUENCE:3
DTSTAMP:20260425T013712Z
URL:https://business.bristolchamber.com/events/details/ribbon-cutting-ultimate-shine-car-wash-791717
END:VEVENT

END:VCALENDAR
