BEGIN:VCALENDAR
VERSION:2.0
PRODID:-//ChamberMaster//Event Calendar 2.0//EN
METHOD:PUBLISH
X-PUBLISHED-TTL:P3D
REFRESH-INTERVAL:P3D
CALSCALE:GREGORIAN
BEGIN:VEVENT
DTSTART:20181207T150000Z
DTEND:20181207T153000Z
X-MICROSOFT-CDO-ALLDAYEVENT:FALSE
SUMMARY:Ribbon Cutting - Time 2 Play
DESCRIPTION:Join us for a ribbon cutting celebrating Time 2 Play!
X-ALT-DESC;FMTTYPE=text/html:Join us for a ribbon cutting celebrating Time 2 Play!
LOCATION:Time 2 Play 3170 Linden Drive\, Suite 12 Bristol\, VA 24202
UID:e.2564.791803
SEQUENCE:3
DTSTAMP:20260424T222640Z
URL:https://business.bristolchamber.com/events/details/ribbon-cutting-time-2-play-791803
END:VEVENT

END:VCALENDAR
