BEGIN:VCALENDAR
VERSION:2.0
PRODID:-//ChamberMaster//Event Calendar 2.0//EN
METHOD:PUBLISH
X-PUBLISHED-TTL:P3D
REFRESH-INTERVAL:P3D
CALSCALE:GREGORIAN
BEGIN:VEVENT
DTSTART:20190103T200000Z
DTEND:20190103T203000Z
X-MICROSOFT-CDO-ALLDAYEVENT:FALSE
SUMMARY:Ribbon Cutting - Popeyes
DESCRIPTION:Join us for a ribbon cutting celebration at the new Popeyes!
X-ALT-DESC;FMTTYPE=text/html:Join us for a ribbon cutting celebration at the new Popeyes!
LOCATION:1321 Euclid Avenue\, Ste 2 Bristol\, VA 24201
UID:e.2564.791818
SEQUENCE:3
DTSTAMP:20260424T205512Z
URL:https://business.bristolchamber.com/events/details/ribbon-cutting-popeyes-791818
END:VEVENT

END:VCALENDAR
